BEGIN:VCALENDAR
VERSION:2.0
PRODID:-//Squarespace Inc/Squarespace 6//v6//EN
BEGIN:VEVENT
UID:5e3f9cb52c32025813273f7a@squarespace.com
DTSTAMP:20200209T062743Z
DTSTART:20200228T083000Z
DTEND:20200228T103000Z
SUMMARY:ASTRO JOURNEY: Radiate Your Sun Sign
END:VEVENT
END:VCALENDAR
