BEGIN:VCALENDAR
VERSION:2.0
PRODID:-//Squarespace Inc/Squarespace 6//v6//EN
BEGIN:VEVENT
UID:5e38fd7dc34f063543c38b26@squarespace.com
DTSTAMP:20200204T051423Z
DTSTART:20201129T013000Z
DTEND:20201129T040000Z
SUMMARY:Restorative / Massage Retreat
END:VEVENT
END:VCALENDAR
