BEGIN:VCALENDAR
VERSION:2.0
PRODID:-//Squarespace Inc/Squarespace 6//v6//EN
BEGIN:VEVENT
UID:5e38fdba305ee5440134f5ae@squarespace.com
DTSTAMP:20200204T051538Z
DTSTART:20201213T013000Z
DTEND:20201213T040000Z
SUMMARY:Restorative / Massage Retreat
END:VEVENT
END:VCALENDAR
