BEGIN:VCALENDAR
VERSION:2.0
PRODID:-//Squarespace Inc/Squarespace 6//v6//EN
BEGIN:VEVENT
UID:5d9ab449dee9214f7c232274@squarespace.com
DTSTAMP:20191009T063521Z
DTSTART:20191024T073000Z
DTEND:20191114T083000Z
SUMMARY:Beginners Meditation course
GEO:-37.846191;144.872486
LOCATION:Think.Focus.Act\, 33 Challis Street\, Newport\, VIC\, 3015\, Austr
 alia
END:VEVENT
END:VCALENDAR
