BEGIN:VCALENDAR
VERSION:2.0
PRODID:-//Squarespace Inc/Squarespace 6//v6//EN
BEGIN:VEVENT
UID:5d3d4bae9b519f0001581876@squarespace.com
DTSTAMP:20191007T034247Z
DTSTART:20191007T053000Z
DTEND:20191209T063000Z
SUMMARY:Children's &amp\; Teen Yoga Term 4
GEO:-37.846191;144.872486
LOCATION:Think Fccus Act\, 33 Challis Street\, Newport\, VIC\, 3015\, Austr
 alia
END:VEVENT
END:VCALENDAR
