BEGIN:VCALENDAR
VERSION:2.0
PRODID:-//Squarespace Inc/Squarespace 6//v6//EN
BEGIN:VEVENT
UID:5d3d4e2b045889000182c6be@squarespace.com
DTSTAMP:20190728T073523Z
DTSTART:20191231T130100Z
DTEND:20191231T140100Z
SUMMARY:Gita Yoga - Beginners Course (Coming soon)
GEO:-37.846191;144.872486
LOCATION:Think Focus Act\, 33 Challis Street\, Newport\, VIC\, 3015\, Austr
 alia
END:VEVENT
END:VCALENDAR
