BEGIN:VCALENDAR
VERSION:2.0
PRODID:-//Squarespace Inc/Squarespace 6//v6//EN
BEGIN:VEVENT
UID:5e38fe70c345493aca0196e6@squarespace.com
DTSTAMP:20200204T052732Z
DTSTART:20200222T030000Z
DTEND:20200222T060000Z
SUMMARY:Liberate Yourself Breath-work Session
END:VEVENT
END:VCALENDAR
