BEGIN:VCALENDAR
VERSION:2.0
PRODID:-//Squarespace Inc/Squarespace 6//v6//EN
BEGIN:VEVENT
UID:5d2690124a99270001a9ab51@squarespace.com
DTSTAMP:20191009T063918Z
DTSTART:20191010T083000Z
DTEND:20191128T103000Z
SUMMARY:Numerology Course 1
GEO:-37.846111;144.872576
LOCATION:Think.Focus.Act\, 35 Challis Street\, Newport\, VIC\, 3015\, Austr
 alia
END:VEVENT
END:VCALENDAR
