BEGIN:VCALENDAR
VERSION:2.0
PRODID:-//Squarespace Inc/Squarespace 6//v6//EN
BEGIN:VEVENT
UID:5e2a81d9256bbc3c10de7be2@squarespace.com
DTSTAMP:20200209T061259Z
DTSTART:20200208T033000Z
DTEND:20200208T060000Z
SUMMARY:QIGONG FOR A JOYFUL HEART SELF-CARE WORKSHOP
END:VEVENT
END:VCALENDAR
