BEGIN:VCALENDAR
VERSION:2.0
PRODID:-//Squarespace Inc/Squarespace 6//v6//EN
BEGIN:VEVENT
UID:5d3d48ed242c220001c225a9@squarespace.com
DTSTAMP:20191004T040926Z
DTSTART:20191026T033000Z
DTEND:20191026T060000Z
SUMMARY:Qigong for Creative Vision
GEO:-37.846191;144.872486
LOCATION:Think Focus Act\, 33 Challis Street\, Newport\, VIC\, 3015\, Austr
 alia
END:VEVENT
END:VCALENDAR
