BEGIN:VCALENDAR
VERSION:2.0
PRODID:-//Squarespace Inc/Squarespace 6//v6//EN
BEGIN:VEVENT
UID:5e3fa2ebd8d2da072e712ded@squarespace.com
DTSTAMP:20200209T063216Z
DTSTART:20200329T023000Z
DTEND:20200329T050000Z
SUMMARY:QIGONG TO GROUND &amp\; NURTURE
END:VEVENT
END:VCALENDAR
