BEGIN:VCALENDAR
VERSION:2.0
PRODID:-//Squarespace Inc/Squarespace 6//v6//EN
BEGIN:VEVENT
UID:5d6489e8a39224000190311b@squarespace.com
DTSTAMP:20191009T063511Z
DTSTART:20191011T080000Z
DTEND:20191013T050000Z
SUMMARY:Reiki Level 1 Course 
GEO:-37.846191;144.872486
LOCATION:Think.Focus.Act\, 33 Challis Street\, Newport\, VIC\, 3015\, Austr
 alia
END:VEVENT
END:VCALENDAR
