BEGIN:VCALENDAR
VERSION:2.0
PRODID:-//Squarespace Inc/Squarespace 6//v6//EN
BEGIN:VEVENT
UID:5d1354ed4aeac100013f43d5@squarespace.com
DTSTAMP:20190728T071248Z
DTSTART:20190823T090000Z
DTEND:20190825T060000Z
SUMMARY:Reiki Level 2 Workshop
GEO:-37.846191;144.872486
LOCATION:Think.Focus.Act\, 33 Challis Street\, Newport\, VIC\, 3015\, Austr
 alia
END:VEVENT
END:VCALENDAR
