BEGIN:VCALENDAR
VERSION:2.0
PRODID:-//Squarespace Inc/Squarespace 6//v6//EN
BEGIN:VEVENT
UID:5d1354ed4aeac100013f43d6@squarespace.com
DTSTAMP:20191121T091501Z
DTSTART:20191202T083000Z
DTEND:20191202T103000Z
SUMMARY:Reiki Share Nights
GEO:-37.846191;144.872486
LOCATION:Think Focus Act\, 33 Challis Street\, Newport\, VIC\, 3015\, Austr
 alia
END:VEVENT
END:VCALENDAR
