BEGIN:VCALENDAR
VERSION:2.0
PRODID:-//Squarespace Inc/Squarespace 6//v6//EN
BEGIN:VEVENT
UID:5e38f8caf9e038494762edcb@squarespace.com
DTSTAMP:20200204T045723Z
DTSTART:20200419T023000Z
DTEND:20200419T050000Z
SUMMARY:Restorative / Massage Retreat
END:VEVENT
END:VCALENDAR
