BEGIN:VCALENDAR
VERSION:2.0
PRODID:-//Squarespace Inc/Squarespace 6//v6//EN
BEGIN:VEVENT
UID:5e38fb97f76257747cb75cf4@squarespace.com
DTSTAMP:20200204T050738Z
DTSTART:20200628T023000Z
DTEND:20200628T050000Z
SUMMARY:Restorative / Massage Retreat
END:VEVENT
END:VCALENDAR
