BEGIN:VCALENDAR
VERSION:2.0
PRODID:-//Squarespace Inc/Squarespace 6//v6//EN
BEGIN:VEVENT
UID:5e38fc22a9cb20006c93d016@squarespace.com
DTSTAMP:20200204T050928Z
DTSTART:20200726T023000Z
DTEND:20200726T050000Z
SUMMARY:Restorative / Massage Retreat
END:VEVENT
END:VCALENDAR
