BEGIN:VCALENDAR
VERSION:2.0
PRODID:-//Squarespace Inc/Squarespace 6//v6//EN
BEGIN:VEVENT
UID:5e38fc904966832aa71fe3ab@squarespace.com
DTSTAMP:20200204T051049Z
DTSTART:20200830T023000Z
DTEND:20200830T050000Z
SUMMARY:Restorative / Massage Retreat
END:VEVENT
END:VCALENDAR
