BEGIN:VCALENDAR
VERSION:2.0
PRODID:-//Squarespace Inc/Squarespace 6//v6//EN
BEGIN:VEVENT
UID:5e38fce452fea704c3e89314@squarespace.com
DTSTAMP:20200204T051200Z
DTSTART:20200927T023000Z
DTEND:20200927T050000Z
SUMMARY:Restorative / Massage Retreat
END:VEVENT
END:VCALENDAR
