BEGIN:VCALENDAR
VERSION:2.0
PRODID:-//Squarespace Inc/Squarespace 6//v6//EN
BEGIN:VEVENT
UID:5e38fae3f76257747cb7369a@squarespace.com
DTSTAMP:20200204T050450Z
DTSTART:20200509T050000Z
DTEND:20200509T073000Z
SUMMARY:Restorative / Massage Retreat (Mothers Day Afternoon Session)
END:VEVENT
END:VCALENDAR
