BEGIN:VCALENDAR
VERSION:2.0
PRODID:-//Squarespace Inc/Squarespace 6//v6//EN
BEGIN:VEVENT
UID:5e38f9cffe39f83e2a3e6255@squarespace.com
DTSTAMP:20200204T050202Z
DTSTART:20200509T020000Z
DTEND:20200509T043000Z
SUMMARY:Restorative / Massage Retreat (Mothers Day Morning Session)
END:VEVENT
END:VCALENDAR
