BEGIN:VCALENDAR
VERSION:2.0
PRODID:-//Squarespace Inc/Squarespace 6//v6//EN
BEGIN:VEVENT
UID:5dc256c6d90490301bac0228@squarespace.com
DTSTAMP:20200203T031135Z
DTSTART:20200322T013000Z
DTEND:20200322T040000Z
SUMMARY:Restorative / Massage Retreat
END:VEVENT
END:VCALENDAR
