BEGIN:VCALENDAR
VERSION:2.0
PRODID:-//Squarespace Inc/Squarespace 6//v6//EN
BEGIN:VEVENT
UID:5e38fd2852fea704c3e89c28@squarespace.com
DTSTAMP:20200204T051316Z
DTSTART:20201025T013000Z
DTEND:20201025T040000Z
SUMMARY:Restorative / Massage Retreat
END:VEVENT
END:VCALENDAR
