BEGIN:VCALENDAR
VERSION:2.0
PRODID:-//Squarespace Inc/Squarespace 6//v6//EN
BEGIN:VEVENT
UID:5e40ab0df875f52b569d6897@squarespace.com
DTSTAMP:20200218T073943Z
DTSTART:20200301T020000Z
DTEND:20200301T043000Z
SUMMARY:Yin + Chakra Journey Immersion with Supernova Yoga ~ Kate Podolak
GEO:-37.846191;144.872486
LOCATION:Think.Focus.Act.\, 33 Challis Street\, Newport\, VIC\, 3015\, Aust
 ralia
END:VEVENT
END:VCALENDAR
