BEGIN:VCALENDAR
VERSION:2.0
PRODID:-//Squarespace Inc/Squarespace 6//v6//EN
BEGIN:VEVENT
UID:5db8d38df152967e5258b79e@squarespace.com
DTSTAMP:20191104T084910Z
DTSTART:20191124T020000Z
DTEND:20191124T043000Z
SUMMARY:Yin + Meditation Immersion with Supernova Yoga ~ Kate Podolak
GEO:-37.846191;144.872486
LOCATION:Think.Focus.Act.\, 33 Challis Street\, Newport\, VIC\, 3015\, Aust
 ralia
END:VEVENT
END:VCALENDAR
